BEGIN:VCALENDAR
VERSION:2.0
PRODID:-//bibione.info - ECPv6.15.18//NONSGML v1.0//EN
CALSCALE:GREGORIAN
METHOD:PUBLISH
X-ORIGINAL-URL:https://www.bibione.info
X-WR-CALDESC:Eventi per bibione.info
REFRESH-INTERVAL;VALUE=DURATION:PT1H
X-Robots-Tag:noindex
X-PUBLISHED-TTL:PT1H
BEGIN:VTIMEZONE
TZID:Europe/Rome
BEGIN:DAYLIGHT
TZOFFSETFROM:+0100
TZOFFSETTO:+0200
TZNAME:CEST
DTSTART:20230326T010000
END:DAYLIGHT
BEGIN:STANDARD
TZOFFSETFROM:+0200
TZOFFSETTO:+0100
TZNAME:CET
DTSTART:20231029T010000
END:STANDARD
BEGIN:DAYLIGHT
TZOFFSETFROM:+0100
TZOFFSETTO:+0200
TZNAME:CEST
DTSTART:20240331T010000
END:DAYLIGHT
BEGIN:STANDARD
TZOFFSETFROM:+0200
TZOFFSETTO:+0100
TZNAME:CET
DTSTART:20241027T010000
END:STANDARD
BEGIN:DAYLIGHT
TZOFFSETFROM:+0100
TZOFFSETTO:+0200
TZNAME:CEST
DTSTART:20250330T010000
END:DAYLIGHT
BEGIN:STANDARD
TZOFFSETFROM:+0200
TZOFFSETTO:+0100
TZNAME:CET
DTSTART:20251026T010000
END:STANDARD
BEGIN:DAYLIGHT
TZOFFSETFROM:+0100
TZOFFSETTO:+0200
TZNAME:CEST
DTSTART:20260329T010000
END:DAYLIGHT
BEGIN:STANDARD
TZOFFSETFROM:+0200
TZOFFSETTO:+0100
TZNAME:CET
DTSTART:20261025T010000
END:STANDARD
END:VTIMEZONE
BEGIN:VEVENT
DTSTART;VALUE=DATE:20250425
DTEND;VALUE=DATE:20250428
DTSTAMP:20260420T104556
CREATED:20250328T110314Z
LAST-MODIFIED:20250328T110314Z
UID:7806-1745539200-1745798399@www.bibione.info
SUMMARY:Mercato Europeo Bibione 2025
DESCRIPTION:Dal 25 al 27 aprile 2025\, piazzale Zenith di Bibione si animerà con colori\, profumi e sapori da tutto il mondo. Per tre giorni\, il cuore della città ospiterà un evento imperdibile\, dove tradizioni e culture si incontrano in un’atmosfera vivace e accogliente. \nI visitatori potranno immergersi in un vero e proprio viaggio gastronomico\, grazie a una ricca selezione di street food internazionale: piatti tipici\, specialità regionali e bevande tradizionali\, per assaporare il meglio delle cucine del mondo senza dover partire. \nPer maggiori informazioni visita il sito ufficiale dei Mercati Europei FIVA.
URL:https://www.bibione.info/evento/mercato-europeo-bibione-2025/
LOCATION:Piazzale Zenith\, Piazzale Zenith\, Bibione\, 30028\, Italy
CATEGORIES:Eventi,Street Food
ATTACH;FMTTYPE=image/jpeg:https://www.bibione.info/wp-content/uploads/2025/03/bibione-mercato-europeo.jpg
ORGANIZER;CN="FIVA - MERCATI EUROPEI":MAILTO:info@fiva.it
END:VEVENT
BEGIN:VEVENT
DTSTART;VALUE=DATE:20240330
DTEND;VALUE=DATE:20240402
DTSTAMP:20260420T104556
CREATED:20240327T122740Z
LAST-MODIFIED:20240327T122740Z
UID:7627-1711756800-1712015999@www.bibione.info
SUMMARY:Mercato Europeo Bibione 2024
DESCRIPTION:Mercato Europeo a Bibione: 30 marzo-1 aprile 2024 \nCi aspettano tre giorni di festa a Bibione in occasione della Pasqua. Street Food con cibi e bevande\, articoli per la casa\, artigianato e cura della persona.Un modo per assaporare le tradizioni e i sapori provenienti da diverse parti del mondo in piazzale Zenith. \nIngresso Gratuito! \nPer maggiori informazioni visita il sito ufficiale.
URL:https://www.bibione.info/evento/mercato-europeo-bibione-2024/
LOCATION:Piazzale Zenith\, Piazzale Zenith\, Bibione\, 30028\, Italy
CATEGORIES:Street Food
ATTACH;FMTTYPE=image/png:https://www.bibione.info/wp-content/uploads/2024/03/Bibione-FIVA-2024.png
END:VEVENT
END:VCALENDAR