BEGIN:VCALENDAR
VERSION:2.0
PRODID:-//bibione.info - ECPv6.15.18//NONSGML v1.0//EN
CALSCALE:GREGORIAN
METHOD:PUBLISH
X-ORIGINAL-URL:https://www.bibione.info
X-WR-CALDESC:Eventi per bibione.info
REFRESH-INTERVAL;VALUE=DURATION:PT1H
X-Robots-Tag:noindex
X-PUBLISHED-TTL:PT1H
BEGIN:VTIMEZONE
TZID:Europe/Rome
BEGIN:DAYLIGHT
TZOFFSETFROM:+0100
TZOFFSETTO:+0200
TZNAME:CEST
DTSTART:20220327T010000
END:DAYLIGHT
BEGIN:STANDARD
TZOFFSETFROM:+0200
TZOFFSETTO:+0100
TZNAME:CET
DTSTART:20221030T010000
END:STANDARD
BEGIN:DAYLIGHT
TZOFFSETFROM:+0100
TZOFFSETTO:+0200
TZNAME:CEST
DTSTART:20230326T010000
END:DAYLIGHT
BEGIN:STANDARD
TZOFFSETFROM:+0200
TZOFFSETTO:+0100
TZNAME:CET
DTSTART:20231029T010000
END:STANDARD
BEGIN:DAYLIGHT
TZOFFSETFROM:+0100
TZOFFSETTO:+0200
TZNAME:CEST
DTSTART:20240331T010000
END:DAYLIGHT
BEGIN:STANDARD
TZOFFSETFROM:+0200
TZOFFSETTO:+0100
TZNAME:CET
DTSTART:20241027T010000
END:STANDARD
BEGIN:DAYLIGHT
TZOFFSETFROM:+0100
TZOFFSETTO:+0200
TZNAME:CEST
DTSTART:20250330T010000
END:DAYLIGHT
BEGIN:STANDARD
TZOFFSETFROM:+0200
TZOFFSETTO:+0100
TZNAME:CET
DTSTART:20251026T010000
END:STANDARD
BEGIN:DAYLIGHT
TZOFFSETFROM:+0100
TZOFFSETTO:+0200
TZNAME:CEST
DTSTART:20260329T010000
END:DAYLIGHT
BEGIN:STANDARD
TZOFFSETFROM:+0200
TZOFFSETTO:+0100
TZNAME:CET
DTSTART:20261025T010000
END:STANDARD
END:VTIMEZONE
BEGIN:VEVENT
DTSTART;TZID=Europe/Rome:20250912T230000
DTEND;TZID=Europe/Rome:20250912T233000
DTSTAMP:20260422T151413
CREATED:20250627T144016Z
LAST-MODIFIED:20250627T144016Z
UID:7964-1757718000-1757719800@www.bibione.info
SUMMARY:Spettacolo pirotecnico - settembre 2025
DESCRIPTION:Credits Comune San Michele al Tagliamento\nProssimo appuntamento: Venerdì 12 settembre 2025\, ore 23:00. Per salutare l’estate in grande stile\, Bibione ti regala uno spettacolo pirotecnico unico. Questa volta\, i fuochi danzeranno a tempo di musica\, creando un’esperienza ancora più suggestiva. L’appuntamento è sulla spiaggia antistante Piazzale Zenith.
URL:https://www.bibione.info/evento/spettacolo-pirotecnico-settembre-2025/
LOCATION:Piazzale Zenith\, Piazzale Zenith\, Bibione\, 30028\, Italy
CATEGORIES:Eventi
ATTACH;FMTTYPE=image/jpeg:https://www.bibione.info/wp-content/uploads/2022/05/fuochi-artificio.jpg
END:VEVENT
BEGIN:VEVENT
DTSTART;TZID=Europe/Rome:20230914T230000
DTEND;TZID=Europe/Rome:20230914T233000
DTSTAMP:20260422T151413
CREATED:20230327T101300Z
LAST-MODIFIED:20230327T101300Z
UID:7073-1694732400-1694734200@www.bibione.info
SUMMARY:Fuochi d'artificio - settembre 2023
DESCRIPTION:Fuochi d’artificio musicali per salutare l’estate 2023\, a conclusione della manifestazione gastronomica Septemberfest. \nL’appuntamento è previsto per giovedì 13 settembre 2023 alle ore 23:00 presso la spiaggia davanti a piazzale Zenith. \n 
URL:https://www.bibione.info/evento/fuochi-dartificio-settembre-2023/
LOCATION:Bibione\, Piazzale Zenith\, Piazzale Zenith\, Bibione\, 30028\, Italy
ATTACH;FMTTYPE=image/jpeg:https://www.bibione.info/wp-content/uploads/2022/07/ferragosto-bibione.jpg
END:VEVENT
END:VCALENDAR